BEGIN:VCALENDAR
VERSION:2.0
PRODID:-//www.hopeworxinc.org//NONSGML kigkonsult.se iCalcreator 2.30.10//
CALSCALE:GREGORIAN
METHOD:PUBLISH
UID:91a15693-53ec-44d7-8337-27694638b75b
X-WR-CALDESC:Come join us at the annual 5K Mental Health Awareness Walk to 
 support mental health recovery.\nRegistration Opens 8am | Walk Begins 10am
 \nFun activities for all ages and dogs welcome!\nA Rain or Shine Event
X-WR-RELCALID:19495ec6561f0ccda5209d6909ef6b74
X-WR-TIMEZONE:America/New_York
BEGIN:VTIMEZONE
TZID:America/New_York
BEGIN:STANDARD
TZNAME:EST
DTSTART:20181104T020000
TZOFFSETFROM:-0400
TZOFFSETTO:-0500
RDATE:20191103T020000
RDATE:20201101T020000
END:STANDARD
BEGIN:DAYLIGHT
TZNAME:EDT
DTSTART:20190310T020000
TZOFFSETFROM:-0500
TZOFFSETTO:-0400
RDATE:20200308T020000
END:DAYLIGHT
END:VTIMEZONE
BEGIN:VEVENT
UID:2b2e9a29-29d9-4d10-a4c7-f2b5f5eda237
DTSTAMP:20260420T022803Z
DESCRIPTION:Come join us at the annual 5K Mental Health Awareness Walk to s
 upport mental health recovery.\nRegistration Opens 8am | Walk Begins 10am
 \nFun activities for all ages and dogs welcome!\nA Rain or Shine Event
DTSTART;TZID=America/New_York:20190504T080000
DTEND;TZID=America/New_York:20190504T120000
LOCATION:Montgomery County Community College\, Blue Bell\, PA
SUMMARY:NAMIWalks Greater Philadelphia
END:VEVENT
END:VCALENDAR
