BEGIN:VCALENDAR
VERSION:2.0
PRODID:-//www.hopeworxinc.org//NONSGML kigkonsult.se iCalcreator 2.30.10//
CALSCALE:GREGORIAN
METHOD:PUBLISH
UID:638b4522-3c2e-4a67-8412-bd6e37fbf683
X-WR-CALDESC:Join us for our annual conference and awards reception. We loo
 k forward to seeing you there! RSVP:  See below
X-WR-RELCALID:f68f52c9e9465fd6b73a8fcfd8f5c770
X-WR-TIMEZONE:America/New_York
BEGIN:VTIMEZONE
TZID:America/New_York
BEGIN:STANDARD
TZNAME:EST
DTSTART:20181104T020000
TZOFFSETFROM:-0400
TZOFFSETTO:-0500
RDATE:20191103T020000
RDATE:20201101T020000
END:STANDARD
BEGIN:DAYLIGHT
TZNAME:EDT
DTSTART:20190310T020000
TZOFFSETFROM:-0500
TZOFFSETTO:-0400
RDATE:20200308T020000
END:DAYLIGHT
END:VTIMEZONE
BEGIN:VEVENT
UID:2f227471-db61-4e74-8312-035fb3786b7b
DTSTAMP:20260420T023213Z
DESCRIPTION:Join us for our annual conference and awards reception. We look
  forward to seeing you there! RSVP:  See below
DTSTART;TZID=America/New_York:20190522T000000
DTEND;TZID=America/New_York:20190522T235900
LOCATION:Mermaid Lake
SUMMARY:2019 CSP Conference and Awards Reception
END:VEVENT
END:VCALENDAR
