BEGIN:VCALENDAR
VERSION:2.0
PRODID:-//www.hopeworxinc.org//NONSGML kigkonsult.se iCalcreator 2.30.10//
CALSCALE:GREGORIAN
METHOD:PUBLISH
UID:0654634d-07e2-4f6f-92fa-58e57f696a30
X-WR-CALDESC:Join us on the 3rd Thursday of every month at the Norristown P
 ublic Library\, 1001 Powell St.\, Norristown\, PA 19401. Our meetings are 
 held in the Community Room. Subcommittees meet at noon and the general mee
 ting starts at 1 p.m. A light lunch is served. Learn about mental health r
 ecovery\, behavioral health services in Montgomery County and help advocat
 e for legislation to improve services. Also\, join in many social activiti
 es. We look forward to seeing you there!
X-WR-RELCALID:a9f088d817d6d4c2a4417a89336f0c98
X-WR-TIMEZONE:America/New_York
BEGIN:VTIMEZONE
TZID:America/New_York
BEGIN:STANDARD
TZNAME:EST
DTSTART:20181104T020000
TZOFFSETFROM:-0400
TZOFFSETTO:-0500
RDATE:20191103T020000
RDATE:20201101T020000
END:STANDARD
BEGIN:DAYLIGHT
TZNAME:EDT
DTSTART:20190310T020000
TZOFFSETFROM:-0500
TZOFFSETTO:-0400
RDATE:20200308T020000
END:DAYLIGHT
END:VTIMEZONE
BEGIN:VEVENT
UID:4929139f-6cf7-4c66-8f99-7c1dab20200a
DTSTAMP:20260419T214924Z
DESCRIPTION:Join us on the 3rd Thursday of every month at the Norristown Pu
 blic Library\, 1001 Powell St.\, Norristown\, PA 19401. Our meetings are h
 eld in the Community Room. Subcommittees meet at noon and the general meet
 ing starts at 1 p.m. A light lunch is served. Learn about mental health re
 covery\, behavioral health services in Montgomery County and help advocate
  for legislation to improve services. Also\, join in many social activitie
 s. We look forward to seeing you there!
DTSTART;TZID=America/New_York:20190815T120000
DTEND;TZID=America/New_York:20190815T143000
LOCATION:Norristown Public Library
SUMMARY:CSP Committee Monthly Meeting
END:VEVENT
END:VCALENDAR
