BEGIN:VCALENDAR
VERSION:2.0
PRODID:-//www.hopeworxinc.org//NONSGML kigkonsult.se iCalcreator 2.30.10//
CALSCALE:GREGORIAN
METHOD:PUBLISH
UID:f41ff0cb-ae79-46d8-9858-bb1e20876824
X-WR-CALDESC:
X-WR-RELCALID:fdc975b9d1d1ecb0a1e3dcfab54dd7e0
X-WR-TIMEZONE:America/New_York
BEGIN:VTIMEZONE
TZID:America/New_York
BEGIN:STANDARD
TZNAME:EST
DTSTART:20181104T020000
TZOFFSETFROM:-0400
TZOFFSETTO:-0500
RDATE:20191103T020000
RDATE:20201101T020000
END:STANDARD
BEGIN:DAYLIGHT
TZNAME:EDT
DTSTART:20190310T020000
TZOFFSETFROM:-0500
TZOFFSETTO:-0400
RDATE:20200308T020000
RDATE:20210314T020000
END:DAYLIGHT
END:VTIMEZONE
BEGIN:VEVENT
UID:14e16185-c1f8-48bc-9297-a085dd7c4361
DTSTAMP:20260419T201046Z
DESCRIPTION:
DTSTART;TZID=America/New_York:20190913T123000
DTEND;TZID=America/New_York:20190913T143000
LOCATION:
SUMMARY:Santander Financial Literacy Classes
END:VEVENT
END:VCALENDAR
