BEGIN:VCALENDAR
VERSION:2.0
PRODID:-//www.hopeworxinc.org//NONSGML kigkonsult.se iCalcreator 2.30.10//
CALSCALE:GREGORIAN
METHOD:PUBLISH
UID:8515b3c1-b777-414f-b34f-f8f76b4e1ab8
X-WR-CALDESC:
X-WR-RELCALID:4adf43aba0c6434da7253624f84ab407
X-WR-TIMEZONE:America/New_York
BEGIN:VTIMEZONE
TZID:America/New_York
BEGIN:STANDARD
TZNAME:EST
DTSTART:20181104T020000
TZOFFSETFROM:-0400
TZOFFSETTO:-0500
RDATE:20191103T020000
RDATE:20201101T020000
END:STANDARD
BEGIN:DAYLIGHT
TZNAME:EDT
DTSTART:20190310T020000
TZOFFSETFROM:-0500
TZOFFSETTO:-0400
RDATE:20200308T020000
RDATE:20210314T020000
END:DAYLIGHT
END:VTIMEZONE
BEGIN:VEVENT
UID:038340d5-221d-46c1-9f23-0ba1a29c7c61
DTSTAMP:20260419T201154Z
DESCRIPTION:
DTSTART;TZID=America/New_York:20190920T123000
DTEND;TZID=America/New_York:20190920T143000
LOCATION:
SUMMARY:Santander Financial Literacy Classes
END:VEVENT
END:VCALENDAR
