BEGIN:VCALENDAR
VERSION:2.0
PRODID:-//www.hopeworxinc.org//NONSGML kigkonsult.se iCalcreator 2.30.10//
CALSCALE:GREGORIAN
METHOD:PUBLISH
UID:199e5179-a370-4c66-8cc5-27cb12199f37
X-WR-CALDESC:
X-WR-RELCALID:b9c831627604b1a25752cb52bf63c297
X-WR-TIMEZONE:America/New_York
BEGIN:VTIMEZONE
TZID:America/New_York
BEGIN:STANDARD
TZNAME:EST
DTSTART:20181104T020000
TZOFFSETFROM:-0400
TZOFFSETTO:-0500
RDATE:20191103T020000
RDATE:20201101T020000
END:STANDARD
BEGIN:DAYLIGHT
TZNAME:EDT
DTSTART:20190310T020000
TZOFFSETFROM:-0500
TZOFFSETTO:-0400
RDATE:20200308T020000
RDATE:20210314T020000
END:DAYLIGHT
END:VTIMEZONE
BEGIN:VEVENT
UID:c1a7f92a-add7-4840-ae00-72624aab43fd
DTSTAMP:20260419T201056Z
DESCRIPTION:
DTSTART;TZID=America/New_York:20190927T123000
DTEND;TZID=America/New_York:20190927T143000
LOCATION:
SUMMARY:Santander Financial Literacy Classes
END:VEVENT
END:VCALENDAR
