BEGIN:VCALENDAR
VERSION:2.0
PRODID:-//www.hopeworxinc.org//NONSGML kigkonsult.se iCalcreator 2.30.10//
CALSCALE:GREGORIAN
METHOD:PUBLISH
UID:25134184-17e7-47a3-a16f-0e2d4ab90819
X-WR-CALDESC:
X-WR-RELCALID:32b3aadc64ec1da1b36c3ee5e6bcec2e
X-WR-TIMEZONE:America/New_York
BEGIN:VTIMEZONE
TZID:America/New_York
BEGIN:STANDARD
TZNAME:EST
DTSTART:20181104T020000
TZOFFSETFROM:-0400
TZOFFSETTO:-0500
RDATE:20191103T020000
RDATE:20201101T020000
END:STANDARD
BEGIN:DAYLIGHT
TZNAME:EDT
DTSTART:20190310T020000
TZOFFSETFROM:-0500
TZOFFSETTO:-0400
RDATE:20200308T020000
RDATE:20210314T020000
END:DAYLIGHT
END:VTIMEZONE
BEGIN:VEVENT
UID:5ed18310-d131-421a-bb4d-912a1d23acf6
DTSTAMP:20260419T154856Z
DESCRIPTION:
DTSTART;TZID=America/New_York:20191002T090000
DTEND;TZID=America/New_York:20191002T123000
LOCATION:
SUMMARY:2019 Building Bridges -  Workforce Partnership
END:VEVENT
END:VCALENDAR
