BEGIN:VCALENDAR
VERSION:2.0
PRODID:-//www.hopeworxinc.org//NONSGML kigkonsult.se iCalcreator 2.30.10//
CALSCALE:GREGORIAN
METHOD:PUBLISH
UID:daece1af-b745-48a7-a7d0-3644cb0cbca5
X-WR-CALDESC:
X-WR-RELCALID:763b97409d871078697204bd5ee6e1b2
X-WR-TIMEZONE:America/New_York
BEGIN:VTIMEZONE
TZID:America/New_York
BEGIN:STANDARD
TZNAME:EST
DTSTART:20181104T020000
TZOFFSETFROM:-0400
TZOFFSETTO:-0500
RDATE:20191103T020000
RDATE:20201101T020000
END:STANDARD
BEGIN:DAYLIGHT
TZNAME:EDT
DTSTART:20190310T020000
TZOFFSETFROM:-0500
TZOFFSETTO:-0400
RDATE:20200308T020000
RDATE:20210314T020000
END:DAYLIGHT
END:VTIMEZONE
BEGIN:VEVENT
UID:f31bd404-37fc-46cf-9a16-1e78af909129
DTSTAMP:20260419T182913Z
DESCRIPTION:
DTSTART;TZID=America/New_York:20191002T093000
DTEND;TZID=America/New_York:20191002T150000
LOCATION:
SUMMARY:Norristown State Hospital Art Show Bldg 33
END:VEVENT
END:VCALENDAR
