BEGIN:VCALENDAR
VERSION:2.0
PRODID:-//www.hopeworxinc.org//NONSGML kigkonsult.se iCalcreator 2.30.10//
CALSCALE:GREGORIAN
METHOD:PUBLISH
UID:878968de-83c4-420d-883d-5f43549dc410
X-WR-CALDESC:
X-WR-RELCALID:a1588c3ab589e3a7e628e0b6629b07c5
X-WR-TIMEZONE:America/New_York
BEGIN:VTIMEZONE
TZID:America/New_York
BEGIN:STANDARD
TZNAME:EST
DTSTART:20181104T020000
TZOFFSETFROM:-0400
TZOFFSETTO:-0500
RDATE:20191103T020000
RDATE:20201101T020000
END:STANDARD
BEGIN:DAYLIGHT
TZNAME:EDT
DTSTART:20190310T020000
TZOFFSETFROM:-0500
TZOFFSETTO:-0400
RDATE:20200308T020000
RDATE:20210314T020000
END:DAYLIGHT
END:VTIMEZONE
BEGIN:VEVENT
UID:08fcad70-85dc-4c30-b4d0-e256341f4e41
DTSTAMP:20260419T182924Z
DESCRIPTION:
DTSTART;TZID=America/New_York:20191026T120000
DTEND;TZID=America/New_York:20191026T150000
LOCATION:
SUMMARY:Norristown Community Garden Harvest Potluck
END:VEVENT
END:VCALENDAR
