BEGIN:VCALENDAR
VERSION:2.0
PRODID:-//www.hopeworxinc.org//NONSGML kigkonsult.se iCalcreator 2.30.10//
CALSCALE:GREGORIAN
METHOD:PUBLISH
UID:e5590b40-636c-45b1-9ee2-42ffe746e657
X-WR-CALDESC:
X-WR-RELCALID:d0c219eec3eb8e1513cab1b4f3e01754
X-WR-TIMEZONE:America/New_York
BEGIN:VTIMEZONE
TZID:America/New_York
BEGIN:STANDARD
TZNAME:EST
DTSTART:20181104T020000
TZOFFSETFROM:-0400
TZOFFSETTO:-0500
RDATE:20191103T020000
RDATE:20201101T020000
END:STANDARD
BEGIN:DAYLIGHT
TZNAME:EDT
DTSTART:20190310T020000
TZOFFSETFROM:-0500
TZOFFSETTO:-0400
RDATE:20200308T020000
RDATE:20210314T020000
END:DAYLIGHT
END:VTIMEZONE
BEGIN:VEVENT
UID:e8ae6e26-7530-4de4-bc88-9a68ae9e4e2a
DTSTAMP:20260419T201918Z
DESCRIPTION:
DTSTART;TZID=America/New_York:20191101T120000
DTEND;TZID=America/New_York:20191101T150000
LOCATION:
SUMMARY:Community Art  | HopeWorx | 12:00- 3:00pm with Maria Maneos (BWTL)
END:VEVENT
END:VCALENDAR
