BEGIN:VCALENDAR
VERSION:2.0
PRODID:-//www.hopeworxinc.org//NONSGML kigkonsult.se iCalcreator 2.30.10//
CALSCALE:GREGORIAN
METHOD:PUBLISH
UID:5f53f07d-0b98-419d-8c43-c34dc3182d19
X-WR-CALDESC:
X-WR-RELCALID:51ce74f49934eac815ca51f2ced46ec0
X-WR-TIMEZONE:America/New_York
BEGIN:VTIMEZONE
TZID:America/New_York
BEGIN:STANDARD
TZNAME:EST
DTSTART:20181104T020000
TZOFFSETFROM:-0400
TZOFFSETTO:-0500
RDATE:20191103T020000
RDATE:20201101T020000
END:STANDARD
BEGIN:DAYLIGHT
TZNAME:EDT
DTSTART:20190310T020000
TZOFFSETFROM:-0500
TZOFFSETTO:-0400
RDATE:20200308T020000
RDATE:20210314T020000
END:DAYLIGHT
END:VTIMEZONE
BEGIN:VEVENT
UID:84b580e8-624f-4825-ac5d-6fa6aa6dc71a
DTSTAMP:20260419T201006Z
DESCRIPTION:
DTSTART;TZID=America/New_York:20191101T120000
DTEND;TZID=America/New_York:20191101T150000
LOCATION:
SUMMARY:Open Mic | HopeWorx | 12:00-3:00pm
END:VEVENT
END:VCALENDAR
