BEGIN:VCALENDAR
VERSION:2.0
PRODID:-//www.hopeworxinc.org//NONSGML kigkonsult.se iCalcreator 2.30.10//
CALSCALE:GREGORIAN
METHOD:PUBLISH
UID:bb2d11e3-dd67-48f2-804e-d88ce4e7c1d5
X-WR-CALDESC:
X-WR-RELCALID:ccb37ae1582690f2ec8b419ef0bd1a72
X-WR-TIMEZONE:America/New_York
BEGIN:VTIMEZONE
TZID:America/New_York
BEGIN:STANDARD
TZNAME:EST
DTSTART:20181104T020000
TZOFFSETFROM:-0400
TZOFFSETTO:-0500
RDATE:20191103T020000
RDATE:20201101T020000
END:STANDARD
BEGIN:DAYLIGHT
TZNAME:EDT
DTSTART:20190310T020000
TZOFFSETFROM:-0500
TZOFFSETTO:-0400
RDATE:20200308T020000
RDATE:20210314T020000
END:DAYLIGHT
END:VTIMEZONE
BEGIN:VEVENT
UID:54a87fb6-d31a-426b-bee5-17bf6c6c2a6b
DTSTAMP:20260419T201755Z
DESCRIPTION:
DTSTART;TZID=America/New_York:20191102T120000
DTEND;TZID=America/New_York:20191102T150000
LOCATION:
SUMMARY:Movie Day | HopeWorx | 12:00-3:00pm with Laquan (Q)
END:VEVENT
END:VCALENDAR
