BEGIN:VCALENDAR
VERSION:2.0
PRODID:-//www.hopeworxinc.org//NONSGML kigkonsult.se iCalcreator 2.30.10//
CALSCALE:GREGORIAN
METHOD:PUBLISH
UID:b12236eb-3005-45ed-851d-e8b9b541d93a
X-WR-CALDESC:
X-WR-RELCALID:f8881bc509b8a59afff4e48ee2320538
X-WR-TIMEZONE:America/New_York
BEGIN:VTIMEZONE
TZID:America/New_York
BEGIN:STANDARD
TZNAME:EST
DTSTART:20191103T020000
TZOFFSETFROM:-0400
TZOFFSETTO:-0500
RDATE:20201101T020000
END:STANDARD
BEGIN:DAYLIGHT
TZNAME:EDT
DTSTART:20190310T020000
TZOFFSETFROM:-0500
TZOFFSETTO:-0400
RDATE:20200308T020000
RDATE:20210314T020000
END:DAYLIGHT
END:VTIMEZONE
BEGIN:VEVENT
UID:4616eda1-1386-4fe5-b78c-dadac9ae48ed
DTSTAMP:20260419T201729Z
DESCRIPTION:
DTSTART;TZID=America/New_York:20191105T170000
DTEND;TZID=America/New_York:20191105T183000
LOCATION:
SUMMARY:HopeMarket Steering Committee meeting | HopeWorx | 5:00pm-6:30pm
END:VEVENT
END:VCALENDAR
