BEGIN:VCALENDAR
VERSION:2.0
PRODID:-//www.hopeworxinc.org//NONSGML kigkonsult.se iCalcreator 2.30.10//
CALSCALE:GREGORIAN
METHOD:PUBLISH
UID:70491ebd-1f95-4cdf-92bd-f20332ce60af
X-WR-CALDESC:
X-WR-RELCALID:3ff195d48242580763e5416aba40f4ca
X-WR-TIMEZONE:America/New_York
BEGIN:VTIMEZONE
TZID:America/New_York
BEGIN:STANDARD
TZNAME:EST
DTSTART:20191103T020000
TZOFFSETFROM:-0400
TZOFFSETTO:-0500
RDATE:20201101T020000
END:STANDARD
BEGIN:DAYLIGHT
TZNAME:EDT
DTSTART:20190310T020000
TZOFFSETFROM:-0500
TZOFFSETTO:-0400
RDATE:20200308T020000
RDATE:20210314T020000
END:DAYLIGHT
END:VTIMEZONE
BEGIN:VEVENT
UID:695e33e0-6852-4db0-a9df-1cd5ae5b1e73
DTSTAMP:20260419T201911Z
DESCRIPTION:
DTSTART;TZID=America/New_York:20191108T120000
DTEND;TZID=America/New_York:20191108T150000
LOCATION:
SUMMARY:Community Art  | HopeWorx | 12:00- 3:00pm with Maria Maneos (BWTL)
END:VEVENT
END:VCALENDAR
