BEGIN:VCALENDAR
VERSION:2.0
PRODID:-//www.hopeworxinc.org//NONSGML kigkonsult.se iCalcreator 2.30.10//
CALSCALE:GREGORIAN
METHOD:PUBLISH
UID:96d1fa4b-e85e-4706-8cae-e236abae47cf
X-WR-CALDESC:
X-WR-RELCALID:cfd43264659b43c4f34d35d16ea9250d
X-WR-TIMEZONE:America/New_York
BEGIN:VTIMEZONE
TZID:America/New_York
BEGIN:STANDARD
TZNAME:EST
DTSTART:20191103T020000
TZOFFSETFROM:-0400
TZOFFSETTO:-0500
RDATE:20201101T020000
END:STANDARD
BEGIN:DAYLIGHT
TZNAME:EDT
DTSTART:20190310T020000
TZOFFSETFROM:-0500
TZOFFSETTO:-0400
RDATE:20200308T020000
RDATE:20210314T020000
END:DAYLIGHT
END:VTIMEZONE
BEGIN:VEVENT
UID:aa2bea47-8d47-44fc-8bc4-46ed2e85c43b
DTSTAMP:20260419T201045Z
DESCRIPTION:
DTSTART;TZID=America/New_York:20191108T170000
DTEND;TZID=America/New_York:20191108T183000
LOCATION:
SUMMARY:It's T.I.M.E. Class at the Pottstown Cluster
END:VEVENT
END:VCALENDAR
