BEGIN:VCALENDAR
VERSION:2.0
PRODID:-//www.hopeworxinc.org//NONSGML kigkonsult.se iCalcreator 2.30.10//
CALSCALE:GREGORIAN
METHOD:PUBLISH
UID:304107d0-2931-47e7-aca8-18b7af9a10e2
X-WR-CALDESC:
X-WR-RELCALID:553ce76b645008c636532aad791261af
X-WR-TIMEZONE:America/New_York
BEGIN:VTIMEZONE
TZID:America/New_York
BEGIN:STANDARD
TZNAME:EST
DTSTART:20191103T020000
TZOFFSETFROM:-0400
TZOFFSETTO:-0500
RDATE:20201101T020000
END:STANDARD
BEGIN:DAYLIGHT
TZNAME:EDT
DTSTART:20190310T020000
TZOFFSETFROM:-0500
TZOFFSETTO:-0400
RDATE:20200308T020000
RDATE:20210314T020000
END:DAYLIGHT
END:VTIMEZONE
BEGIN:VEVENT
UID:3c17d692-566b-4e55-b993-81b2c4d168ab
DTSTAMP:20260419T201303Z
DESCRIPTION:
DTSTART;TZID=America/New_York:20191108T123000
DTEND;TZID=America/New_York:20191108T143000
LOCATION:
SUMMARY:Trivia Games | HopeWorx | 12:30 – 3:00pm with Beth Burgess
END:VEVENT
END:VCALENDAR
