BEGIN:VCALENDAR
VERSION:2.0
PRODID:-//www.hopeworxinc.org//NONSGML kigkonsult.se iCalcreator 2.30.10//
CALSCALE:GREGORIAN
METHOD:PUBLISH
UID:18bc0786-5cae-4db6-90ca-2364914a76c9
X-WR-CALDESC:
X-WR-RELCALID:bcb163684202922de7f4cfd665bd4cd5
X-WR-TIMEZONE:America/New_York
BEGIN:VTIMEZONE
TZID:America/New_York
BEGIN:STANDARD
TZNAME:EST
DTSTART:20191103T020000
TZOFFSETFROM:-0400
TZOFFSETTO:-0500
RDATE:20201101T020000
END:STANDARD
BEGIN:DAYLIGHT
TZNAME:EDT
DTSTART:20190310T020000
TZOFFSETFROM:-0500
TZOFFSETTO:-0400
RDATE:20200308T020000
RDATE:20210314T020000
END:DAYLIGHT
END:VTIMEZONE
BEGIN:VEVENT
UID:25674a27-14a5-4844-bde8-2ca41675debc
DTSTAMP:20260419T201154Z
DESCRIPTION:
DTSTART;TZID=America/New_York:20191113T173000
DTEND;TZID=America/New_York:20191113T193000
LOCATION:
SUMMARY:Voices Learning Community | HopeWorx | 5:30 – 7:30 pm
END:VEVENT
END:VCALENDAR
