BEGIN:VCALENDAR
VERSION:2.0
PRODID:-//www.hopeworxinc.org//NONSGML kigkonsult.se iCalcreator 2.30.10//
CALSCALE:GREGORIAN
METHOD:PUBLISH
UID:dad6accc-abfe-4c55-8549-2cce45eec6d6
X-WR-CALDESC:
X-WR-RELCALID:dee4e32a7234170b59db00074f4adce2
X-WR-TIMEZONE:America/New_York
BEGIN:VTIMEZONE
TZID:America/New_York
BEGIN:STANDARD
TZNAME:EST
DTSTART:20191103T020000
TZOFFSETFROM:-0400
TZOFFSETTO:-0500
RDATE:20201101T020000
END:STANDARD
BEGIN:DAYLIGHT
TZNAME:EDT
DTSTART:20190310T020000
TZOFFSETFROM:-0500
TZOFFSETTO:-0400
RDATE:20200308T020000
RDATE:20210314T020000
END:DAYLIGHT
END:VTIMEZONE
BEGIN:VEVENT
UID:40559174-131c-4c2a-8438-838c48ba1f04
DTSTAMP:20260419T201755Z
DESCRIPTION:
DTSTART;TZID=America/New_York:20191114T103000
DTEND;TZID=America/New_York:20191114T120000
LOCATION:
SUMMARY:Circle of Hope | HopeWorx | 10:30am – 12pm with CIC
END:VEVENT
END:VCALENDAR
