BEGIN:VCALENDAR
VERSION:2.0
PRODID:-//www.hopeworxinc.org//NONSGML kigkonsult.se iCalcreator 2.30.10//
CALSCALE:GREGORIAN
METHOD:PUBLISH
UID:4b029cb5-7d19-4eeb-a9ae-0eb2a64e2bb0
X-WR-CALDESC:
X-WR-RELCALID:a99ff0fe4148ec4e177320749bf7fbcd
X-WR-TIMEZONE:America/New_York
BEGIN:VTIMEZONE
TZID:America/New_York
BEGIN:STANDARD
TZNAME:EST
DTSTART:20191103T020000
TZOFFSETFROM:-0400
TZOFFSETTO:-0500
RDATE:20201101T020000
END:STANDARD
BEGIN:DAYLIGHT
TZNAME:EDT
DTSTART:20190310T020000
TZOFFSETFROM:-0500
TZOFFSETTO:-0400
RDATE:20200308T020000
RDATE:20210314T020000
END:DAYLIGHT
END:VTIMEZONE
BEGIN:VEVENT
UID:6720876c-ed55-450d-bd67-a11892730fe7
DTSTAMP:20260419T201918Z
DESCRIPTION:
DTSTART;TZID=America/New_York:20191115T120000
DTEND;TZID=America/New_York:20191115T150000
LOCATION:
SUMMARY:Community Art  | HopeWorx | 12:00- 3:00pm with Maria Maneos (BWTL)
END:VEVENT
END:VCALENDAR
