BEGIN:VCALENDAR
VERSION:2.0
PRODID:-//www.hopeworxinc.org//NONSGML kigkonsult.se iCalcreator 2.30.10//
CALSCALE:GREGORIAN
METHOD:PUBLISH
UID:2d9e1c20-d419-4bd8-bf3a-c40cc3f0a382
X-WR-CALDESC:
X-WR-RELCALID:c2aeb8c66e8ef31ab11151d6618dd768
X-WR-TIMEZONE:America/New_York
BEGIN:VTIMEZONE
TZID:America/New_York
BEGIN:STANDARD
TZNAME:EST
DTSTART:20191103T020000
TZOFFSETFROM:-0400
TZOFFSETTO:-0500
RDATE:20201101T020000
END:STANDARD
BEGIN:DAYLIGHT
TZNAME:EDT
DTSTART:20190310T020000
TZOFFSETFROM:-0500
TZOFFSETTO:-0400
RDATE:20200308T020000
RDATE:20210314T020000
END:DAYLIGHT
END:VTIMEZONE
BEGIN:VEVENT
UID:724c17f8-656e-4716-b957-9f2d2c580866
DTSTAMP:20260419T201405Z
DESCRIPTION:
DTSTART;TZID=America/New_York:20191115T123000
DTEND;TZID=America/New_York:20191115T143000
LOCATION:
SUMMARY:Games Day (Quarter Bingo) | HopeMarket  12:30pm – 2:30pm with Kevin
  Burns
END:VEVENT
END:VCALENDAR
