BEGIN:VCALENDAR
VERSION:2.0
PRODID:-//www.hopeworxinc.org//NONSGML kigkonsult.se iCalcreator 2.30.10//
CALSCALE:GREGORIAN
METHOD:PUBLISH
UID:fc0ec98e-4363-4f79-b877-96493e115fa1
X-WR-CALDESC:
X-WR-RELCALID:98391ba4f0019f47b28dbdb4c54eb4c4
X-WR-TIMEZONE:America/New_York
BEGIN:VTIMEZONE
TZID:America/New_York
BEGIN:STANDARD
TZNAME:EST
DTSTART:20191103T020000
TZOFFSETFROM:-0400
TZOFFSETTO:-0500
RDATE:20201101T020000
END:STANDARD
BEGIN:DAYLIGHT
TZNAME:EDT
DTSTART:20190310T020000
TZOFFSETFROM:-0500
TZOFFSETTO:-0400
RDATE:20200308T020000
RDATE:20210314T020000
END:DAYLIGHT
END:VTIMEZONE
BEGIN:VEVENT
UID:a47052d7-9b15-457e-91ac-8e156fcabc01
DTSTAMP:20260419T201911Z
DESCRIPTION:
DTSTART;TZID=America/New_York:20191116T120000
DTEND;TZID=America/New_York:20191116T150000
LOCATION:
SUMMARY:Movie Day | HopeWorx | 12:00-3:00pm with Laquan (Q)
END:VEVENT
END:VCALENDAR
