BEGIN:VCALENDAR
VERSION:2.0
PRODID:-//www.hopeworxinc.org//NONSGML kigkonsult.se iCalcreator 2.30.10//
CALSCALE:GREGORIAN
METHOD:PUBLISH
UID:f66cbec5-73cb-492a-af98-54bbd2491a4a
X-WR-CALDESC:
X-WR-RELCALID:3591a21e4d77c64272ed8635e690a217
X-WR-TIMEZONE:America/New_York
BEGIN:VTIMEZONE
TZID:America/New_York
BEGIN:STANDARD
TZNAME:EST
DTSTART:20191103T020000
TZOFFSETFROM:-0400
TZOFFSETTO:-0500
RDATE:20201101T020000
END:STANDARD
BEGIN:DAYLIGHT
TZNAME:EDT
DTSTART:20190310T020000
TZOFFSETFROM:-0500
TZOFFSETTO:-0400
RDATE:20200308T020000
RDATE:20210314T020000
END:DAYLIGHT
END:VTIMEZONE
BEGIN:VEVENT
UID:228f23a6-911b-4c19-a8d6-f9f11feabde9
DTSTAMP:20260419T201302Z
DESCRIPTION:
DTSTART;TZID=America/New_York:20191119T123000
DTEND;TZID=America/New_York:20191119T143000
LOCATION:
SUMMARY:Ask the Basket with Sandy Watson | HopeWorx | 12:30pm – 2:30pm
END:VEVENT
END:VCALENDAR
