BEGIN:VCALENDAR
VERSION:2.0
PRODID:-//www.hopeworxinc.org//NONSGML kigkonsult.se iCalcreator 2.30.10//
CALSCALE:GREGORIAN
METHOD:PUBLISH
UID:3a7de5f6-7477-48ac-99d2-841d7b0c8c67
X-WR-CALDESC:
X-WR-RELCALID:f05d5fc937190fe510b4f14aad21c46f
X-WR-TIMEZONE:America/New_York
BEGIN:VTIMEZONE
TZID:America/New_York
BEGIN:STANDARD
TZNAME:EST
DTSTART:20191103T020000
TZOFFSETFROM:-0400
TZOFFSETTO:-0500
RDATE:20201101T020000
END:STANDARD
BEGIN:DAYLIGHT
TZNAME:EDT
DTSTART:20190310T020000
TZOFFSETFROM:-0500
TZOFFSETTO:-0400
RDATE:20200308T020000
RDATE:20210314T020000
END:DAYLIGHT
END:VTIMEZONE
BEGIN:VEVENT
UID:e7a158bd-a0eb-478a-96a5-598ed3f615b3
DTSTAMP:20260419T201606Z
DESCRIPTION:
DTSTART;TZID=America/New_York:20191121T103000
DTEND;TZID=America/New_York:20191121T120000
LOCATION:
SUMMARY:Circle of Hope | HopeWorx | 10:30am – 12pm with CIC
END:VEVENT
END:VCALENDAR
