BEGIN:VCALENDAR
VERSION:2.0
PRODID:-//www.hopeworxinc.org//NONSGML kigkonsult.se iCalcreator 2.30.10//
CALSCALE:GREGORIAN
METHOD:PUBLISH
UID:10080e45-8f46-4e55-88cf-6e5d0533523a
X-WR-CALDESC:
X-WR-RELCALID:3f5393fb307ec7e8e8a8d95a351e7ee8
X-WR-TIMEZONE:America/New_York
BEGIN:VTIMEZONE
TZID:America/New_York
BEGIN:STANDARD
TZNAME:EST
DTSTART:20191103T020000
TZOFFSETFROM:-0400
TZOFFSETTO:-0500
RDATE:20201101T020000
END:STANDARD
BEGIN:DAYLIGHT
TZNAME:EDT
DTSTART:20190310T020000
TZOFFSETFROM:-0500
TZOFFSETTO:-0400
RDATE:20200308T020000
RDATE:20210314T020000
END:DAYLIGHT
END:VTIMEZONE
BEGIN:VEVENT
UID:7df86e6d-a495-46e2-9419-7a32ec18d525
DTSTAMP:20260419T201405Z
DESCRIPTION:
DTSTART;TZID=America/New_York:20191122T120000
DTEND;TZID=America/New_York:20191122T150000
LOCATION:
SUMMARY:Community Art  | HopeWorx | 12:00- 3:00pm with Maria Maneos (BWTL)
END:VEVENT
END:VCALENDAR
