BEGIN:VCALENDAR
VERSION:2.0
PRODID:-//www.hopeworxinc.org//NONSGML kigkonsult.se iCalcreator 2.30.10//
CALSCALE:GREGORIAN
METHOD:PUBLISH
UID:009e5fad-f2d5-4738-bdb1-18c3451d6dcb
X-WR-CALDESC:
X-WR-RELCALID:15c418d538e817a7c3c8643ec89538ae
X-WR-TIMEZONE:America/New_York
BEGIN:VTIMEZONE
TZID:America/New_York
BEGIN:STANDARD
TZNAME:EST
DTSTART:20191103T020000
TZOFFSETFROM:-0400
TZOFFSETTO:-0500
RDATE:20201101T020000
END:STANDARD
BEGIN:DAYLIGHT
TZNAME:EDT
DTSTART:20190310T020000
TZOFFSETFROM:-0500
TZOFFSETTO:-0400
RDATE:20200308T020000
RDATE:20210314T020000
END:DAYLIGHT
END:VTIMEZONE
BEGIN:VEVENT
UID:75656e47-6b52-460f-906d-cacf06830729
DTSTAMP:20260419T201354Z
DESCRIPTION:
DTSTART;TZID=America/New_York:20191123T120000
DTEND;TZID=America/New_York:20191123T150000
LOCATION:
SUMMARY:Cooking On Budget |  HopeWorx | 12:00 – 3:00pm with Ameika & Penny
END:VEVENT
END:VCALENDAR
