BEGIN:VCALENDAR
VERSION:2.0
PRODID:-//www.hopeworxinc.org//NONSGML kigkonsult.se iCalcreator 2.30.10//
CALSCALE:GREGORIAN
METHOD:PUBLISH
UID:05ecb365-2460-400f-b28a-e20b5a6c92a7
X-WR-CALDESC:
X-WR-RELCALID:20dadc24fe5f6de26f3ec93fd589422a
X-WR-TIMEZONE:America/New_York
BEGIN:VTIMEZONE
TZID:America/New_York
BEGIN:STANDARD
TZNAME:EST
DTSTART:20191103T020000
TZOFFSETFROM:-0400
TZOFFSETTO:-0500
RDATE:20201101T020000
END:STANDARD
BEGIN:DAYLIGHT
TZNAME:EDT
DTSTART:20190310T020000
TZOFFSETFROM:-0500
TZOFFSETTO:-0400
RDATE:20200308T020000
RDATE:20210314T020000
END:DAYLIGHT
END:VTIMEZONE
BEGIN:VEVENT
UID:20f19ef1-b884-470e-9b27-f78599d33263
DTSTAMP:20260419T201543Z
DESCRIPTION:
DTSTART;TZID=America/New_York:20191125T150000
DTEND;TZID=America/New_York:20191125T163000
LOCATION:
SUMMARY:Montgomery County Hearing Voices Network (MCHVN) - 'Taking Back Our
  Power' | HopeWorx | 3:00pm – 4:30pm with CIC
END:VEVENT
END:VCALENDAR
