BEGIN:VCALENDAR
VERSION:2.0
PRODID:-//www.hopeworxinc.org//NONSGML kigkonsult.se iCalcreator 2.30.10//
CALSCALE:GREGORIAN
METHOD:PUBLISH
UID:31e3b2a8-38c6-4c71-97c8-af1c82eccc8a
X-WR-CALDESC:
X-WR-RELCALID:f0664bc31fdde7f6a64fc13feed59684
X-WR-TIMEZONE:America/New_York
BEGIN:VTIMEZONE
TZID:America/New_York
BEGIN:STANDARD
TZNAME:EST
DTSTART:20191103T020000
TZOFFSETFROM:-0400
TZOFFSETTO:-0500
RDATE:20201101T020000
END:STANDARD
BEGIN:DAYLIGHT
TZNAME:EDT
DTSTART:20190310T020000
TZOFFSETFROM:-0500
TZOFFSETTO:-0400
RDATE:20200308T020000
RDATE:20210314T020000
END:DAYLIGHT
END:VTIMEZONE
BEGIN:VEVENT
UID:b7e1e542-d810-4ddc-809c-7352f9754808
DTSTAMP:20260419T201607Z
DESCRIPTION:
DTSTART;TZID=America/New_York:20191126T130000
DTEND;TZID=America/New_York:20191126T140000
LOCATION:
SUMMARY:Mindful Yoga | HopeWorx | 1:00pm – 2:00pm with Maria Evans
END:VEVENT
END:VCALENDAR
