BEGIN:VCALENDAR
VERSION:2.0
PRODID:-//www.hopeworxinc.org//NONSGML kigkonsult.se iCalcreator 2.30.10//
CALSCALE:GREGORIAN
METHOD:PUBLISH
UID:75d878f7-3a5d-4c68-9c09-12ab142bb787
X-WR-CALDESC:
X-WR-RELCALID:f93d7edc8057d27d3178b7dea8bb0263
X-WR-TIMEZONE:America/New_York
BEGIN:VTIMEZONE
TZID:America/New_York
BEGIN:STANDARD
TZNAME:EST
DTSTART:20191103T020000
TZOFFSETFROM:-0400
TZOFFSETTO:-0500
RDATE:20201101T020000
END:STANDARD
BEGIN:DAYLIGHT
TZNAME:EDT
DTSTART:20190310T020000
TZOFFSETFROM:-0500
TZOFFSETTO:-0400
RDATE:20200308T020000
RDATE:20210314T020000
END:DAYLIGHT
END:VTIMEZONE
BEGIN:VEVENT
UID:143e99bb-24cc-4510-9d6b-f1dd2aa780d0
DTSTAMP:20260419T201722Z
DESCRIPTION:
DTSTART;TZID=America/New_York:20191127T000000
DTEND;TZID=America/New_York:20191127T235900
LOCATION:
SUMMARY:Thanksgiving Dinner | Pottstown RLC | 414 East High Street\, Pottst
 own
END:VEVENT
END:VCALENDAR
