BEGIN:VCALENDAR
VERSION:2.0
PRODID:-//www.hopeworxinc.org//NONSGML kigkonsult.se iCalcreator 2.30.10//
CALSCALE:GREGORIAN
METHOD:PUBLISH
UID:4e13525f-69df-483d-8919-061fe498588b
X-WR-CALDESC:
X-WR-RELCALID:2e462b11d13e0219350a62b90981e84e
X-WR-TIMEZONE:America/New_York
BEGIN:VTIMEZONE
TZID:America/New_York
BEGIN:STANDARD
TZNAME:EST
DTSTART:20191103T020000
TZOFFSETFROM:-0400
TZOFFSETTO:-0500
RDATE:20201101T020000
END:STANDARD
BEGIN:DAYLIGHT
TZNAME:EDT
DTSTART:20190310T020000
TZOFFSETFROM:-0500
TZOFFSETTO:-0400
RDATE:20200308T020000
RDATE:20210314T020000
END:DAYLIGHT
END:VTIMEZONE
BEGIN:VEVENT
UID:dd631477-05cb-4db7-81ec-548f08ac2649
DTSTAMP:20260419T200906Z
DESCRIPTION:
DTSTART;TZID=America/New_York:20191128T000000
DTEND;TZID=America/New_York:20191128T235900
LOCATION:
SUMMARY:Closed
END:VEVENT
END:VCALENDAR
