BEGIN:VCALENDAR
VERSION:2.0
PRODID:-//www.hopeworxinc.org//NONSGML kigkonsult.se iCalcreator 2.30.10//
CALSCALE:GREGORIAN
METHOD:PUBLISH
UID:3b8ed296-dffb-4541-8b13-7fd403974b95
X-WR-CALDESC:
X-WR-RELCALID:8cb900e19c3f7c81d8a66c0aa6826a95
X-WR-TIMEZONE:America/New_York
BEGIN:VTIMEZONE
TZID:America/New_York
BEGIN:STANDARD
TZNAME:EST
DTSTART:20191103T020000
TZOFFSETFROM:-0400
TZOFFSETTO:-0500
RDATE:20201101T020000
END:STANDARD
BEGIN:DAYLIGHT
TZNAME:EDT
DTSTART:20190310T020000
TZOFFSETFROM:-0500
TZOFFSETTO:-0400
RDATE:20200308T020000
RDATE:20210314T020000
END:DAYLIGHT
END:VTIMEZONE
BEGIN:VEVENT
UID:595020fa-14dd-40a6-9ce3-8bf5e571234d
DTSTAMP:20260419T201056Z
DESCRIPTION:
DTSTART;TZID=America/New_York:20191129T170000
DTEND;TZID=America/New_York:20191129T183000
LOCATION:
SUMMARY:It's T.I.M.E. Class at the Pottstown Cluster
END:VEVENT
END:VCALENDAR
