BEGIN:VCALENDAR
VERSION:2.0
PRODID:-//www.hopeworxinc.org//NONSGML kigkonsult.se iCalcreator 2.30.10//
CALSCALE:GREGORIAN
METHOD:PUBLISH
UID:c9c550e5-3756-44e2-a932-91fc23622edd
X-WR-CALDESC:
X-WR-RELCALID:2534d6024dc3823aefc9c748ef6a9c6d
X-WR-TIMEZONE:America/New_York
BEGIN:VTIMEZONE
TZID:America/New_York
BEGIN:STANDARD
TZNAME:EST
DTSTART:20191103T020000
TZOFFSETFROM:-0400
TZOFFSETTO:-0500
RDATE:20201101T020000
END:STANDARD
BEGIN:DAYLIGHT
TZNAME:EDT
DTSTART:20190310T020000
TZOFFSETFROM:-0500
TZOFFSETTO:-0400
RDATE:20200308T020000
RDATE:20210314T020000
END:DAYLIGHT
END:VTIMEZONE
BEGIN:VEVENT
UID:598d8b2f-f7b8-4295-a3e6-b12782906fab
DTSTAMP:20260419T200914Z
DESCRIPTION:
DTSTART;TZID=America/New_York:20191129T000000
DTEND;TZID=America/New_York:20191129T235900
LOCATION:
SUMMARY:Closed
END:VEVENT
END:VCALENDAR
