BEGIN:VCALENDAR
VERSION:2.0
PRODID:-//www.hopeworxinc.org//NONSGML kigkonsult.se iCalcreator 2.30.10//
CALSCALE:GREGORIAN
METHOD:PUBLISH
UID:86e42a58-6402-4cc5-941c-92f8a9260d8e
X-WR-CALDESC:
X-WR-RELCALID:ea09e379d6172caaf3530224b53e7b57
X-WR-TIMEZONE:America/New_York
BEGIN:VTIMEZONE
TZID:America/New_York
BEGIN:STANDARD
TZNAME:EST
DTSTART:20191103T020000
TZOFFSETFROM:-0400
TZOFFSETTO:-0500
RDATE:20201101T020000
END:STANDARD
BEGIN:DAYLIGHT
TZNAME:EDT
DTSTART:20190310T020000
TZOFFSETFROM:-0500
TZOFFSETTO:-0400
RDATE:20200308T020000
RDATE:20210314T020000
END:DAYLIGHT
END:VTIMEZONE
BEGIN:VEVENT
UID:e5281383-b3cc-44cc-bd53-d01a40330cb5
DTSTAMP:20260419T215534Z
DESCRIPTION:
DTSTART;TZID=America/New_York:20191203T120000
DTEND;TZID=America/New_York:20191203T130000
LOCATION:
SUMMARY:HopeMarket Community Meeting | HopeWorx |  12:00 – 1:00pm with comm
 unity members
END:VEVENT
END:VCALENDAR
