BEGIN:VCALENDAR
VERSION:2.0
PRODID:-//www.hopeworxinc.org//NONSGML kigkonsult.se iCalcreator 2.30.10//
CALSCALE:GREGORIAN
METHOD:PUBLISH
UID:d86f18b3-799e-43a9-8089-fe237fd82d7d
X-WR-CALDESC:
X-WR-RELCALID:563bc5dff9bcfb6ce1f0d86dba80f331
X-WR-TIMEZONE:America/New_York
BEGIN:VTIMEZONE
TZID:America/New_York
BEGIN:STANDARD
TZNAME:EST
DTSTART:20191103T020000
TZOFFSETFROM:-0400
TZOFFSETTO:-0500
RDATE:20201101T020000
END:STANDARD
BEGIN:DAYLIGHT
TZNAME:EDT
DTSTART:20190310T020000
TZOFFSETFROM:-0500
TZOFFSETTO:-0400
RDATE:20200308T020000
RDATE:20210314T020000
END:DAYLIGHT
END:VTIMEZONE
BEGIN:VEVENT
UID:7998d59b-f644-4afa-93bb-bbcae3d4fd0f
DTSTAMP:20260419T214754Z
DESCRIPTION:
DTSTART;TZID=America/New_York:20191206T170000
DTEND;TZID=America/New_York:20191206T183000
LOCATION:
SUMMARY:It's T.I.M.E. Class at the Pottstown Cluster
END:VEVENT
END:VCALENDAR
