BEGIN:VCALENDAR
VERSION:2.0
PRODID:-//www.hopeworxinc.org//NONSGML kigkonsult.se iCalcreator 2.30.10//
CALSCALE:GREGORIAN
METHOD:PUBLISH
UID:3c8ce24b-b54d-4baf-bb45-d0679d6488fb
X-WR-CALDESC:
X-WR-RELCALID:a0d0fd10b0a1015398a8a09d4566856b
X-WR-TIMEZONE:America/New_York
BEGIN:VTIMEZONE
TZID:America/New_York
BEGIN:STANDARD
TZNAME:EST
DTSTART:20191103T020000
TZOFFSETFROM:-0400
TZOFFSETTO:-0500
RDATE:20201101T020000
END:STANDARD
BEGIN:DAYLIGHT
TZNAME:EDT
DTSTART:20190310T020000
TZOFFSETFROM:-0500
TZOFFSETTO:-0400
RDATE:20200308T020000
RDATE:20210314T020000
END:DAYLIGHT
END:VTIMEZONE
BEGIN:VEVENT
UID:0915dbc4-59aa-4a05-b700-2367165b8468
DTSTAMP:20260419T214631Z
DESCRIPTION:
DTSTART;TZID=America/New_York:20191214T120000
DTEND;TZID=America/New_York:20191214T150000
LOCATION:
SUMMARY:Movie Day
END:VEVENT
END:VCALENDAR
