BEGIN:VCALENDAR
VERSION:2.0
PRODID:-//www.hopeworxinc.org//NONSGML kigkonsult.se iCalcreator 2.30.10//
CALSCALE:GREGORIAN
METHOD:PUBLISH
UID:3b57b67c-4849-4d47-a92c-e815ff10372b
X-WR-CALDESC:
X-WR-RELCALID:52f11b442bc24901f432edb0b1a53776
X-WR-TIMEZONE:America/New_York
BEGIN:VTIMEZONE
TZID:America/New_York
BEGIN:STANDARD
TZNAME:EST
DTSTART:20191103T020000
TZOFFSETFROM:-0400
TZOFFSETTO:-0500
RDATE:20201101T020000
END:STANDARD
BEGIN:DAYLIGHT
TZNAME:EDT
DTSTART:20190310T020000
TZOFFSETFROM:-0500
TZOFFSETTO:-0400
RDATE:20200308T020000
RDATE:20210314T020000
END:DAYLIGHT
END:VTIMEZONE
BEGIN:VEVENT
UID:dea802a4-7d05-406a-aa82-5a46e59d51a2
DTSTAMP:20260419T214728Z
DESCRIPTION:
DTSTART;TZID=America/New_York:20191219T120000
DTEND;TZID=America/New_York:20191219T143000
LOCATION:
SUMMARY:Ugly Sweater Potluck at CSP
END:VEVENT
END:VCALENDAR
