BEGIN:VCALENDAR
VERSION:2.0
PRODID:-//www.hopeworxinc.org//NONSGML kigkonsult.se iCalcreator 2.30.10//
CALSCALE:GREGORIAN
METHOD:PUBLISH
UID:af59423a-ab49-4f14-9268-719307af03a8
X-WR-CALDESC:
X-WR-RELCALID:eea3072249b274c90b6172a7353a0dfc
X-WR-TIMEZONE:America/New_York
BEGIN:VTIMEZONE
TZID:America/New_York
BEGIN:STANDARD
TZNAME:EST
DTSTART:20191103T020000
TZOFFSETFROM:-0400
TZOFFSETTO:-0500
RDATE:20201101T020000
END:STANDARD
BEGIN:DAYLIGHT
TZNAME:EDT
DTSTART:20190310T020000
TZOFFSETFROM:-0500
TZOFFSETTO:-0400
RDATE:20200308T020000
RDATE:20210314T020000
END:DAYLIGHT
END:VTIMEZONE
BEGIN:VEVENT
UID:9e1cde76-5dae-4e6b-b8a5-24ac3ff16c93
DTSTAMP:20260419T214621Z
DESCRIPTION:
DTSTART;TZID=America/New_York:20191221T120000
DTEND;TZID=America/New_York:20191221T150000
LOCATION:
SUMMARY:Cooking on a Budget
END:VEVENT
END:VCALENDAR
