BEGIN:VCALENDAR
VERSION:2.0
PRODID:-//www.hopeworxinc.org//NONSGML kigkonsult.se iCalcreator 2.30.10//
CALSCALE:GREGORIAN
METHOD:PUBLISH
UID:d945f5d1-0a15-4696-abb2-8dbe0dd1587b
X-WR-CALDESC:
X-WR-RELCALID:84a6b76ead62d6560b79a690c44f4961
X-WR-TIMEZONE:America/New_York
BEGIN:VTIMEZONE
TZID:America/New_York
BEGIN:STANDARD
TZNAME:EST
DTSTART:20191103T020000
TZOFFSETFROM:-0400
TZOFFSETTO:-0500
RDATE:20201101T020000
END:STANDARD
BEGIN:DAYLIGHT
TZNAME:EDT
DTSTART:20190310T020000
TZOFFSETFROM:-0500
TZOFFSETTO:-0400
RDATE:20200308T020000
RDATE:20210314T020000
END:DAYLIGHT
END:VTIMEZONE
BEGIN:VEVENT
UID:2c35d129-0ee4-45bf-b013-d2c8ab94c691
DTSTAMP:20260419T214620Z
DESCRIPTION:
DTSTART;TZID=America/New_York:20191228T120000
DTEND;TZID=America/New_York:20191228T150000
LOCATION:
SUMMARY:Reindeer Games Day
END:VEVENT
END:VCALENDAR
