BEGIN:VCALENDAR
VERSION:2.0
PRODID:-//www.hopeworxinc.org//NONSGML kigkonsult.se iCalcreator 2.30.10//
CALSCALE:GREGORIAN
METHOD:PUBLISH
UID:68388073-0ee6-4c37-91bf-6e25665bdfad
X-WR-CALDESC:
X-WR-RELCALID:f21afabd92fd02265dd14450b67709b0
X-WR-TIMEZONE:America/New_York
BEGIN:VTIMEZONE
TZID:America/New_York
BEGIN:STANDARD
TZNAME:EST
DTSTART:20191103T020000
TZOFFSETFROM:-0400
TZOFFSETTO:-0500
RDATE:20201101T020000
END:STANDARD
BEGIN:DAYLIGHT
TZNAME:EDT
DTSTART:20190310T020000
TZOFFSETFROM:-0500
TZOFFSETTO:-0400
RDATE:20200308T020000
RDATE:20210314T020000
END:DAYLIGHT
END:VTIMEZONE
BEGIN:VEVENT
UID:7017b901-c65e-42e2-abff-a7684412fbd2
DTSTAMP:20260419T233548Z
DESCRIPTION:
DTSTART;TZID=America/New_York:20200107T120000
DTEND;TZID=America/New_York:20200107T130000
LOCATION:
SUMMARY:HopeMarket Community Meeting | HopeWorx |  12:00 – 1:00pm with comm
 unity members
END:VEVENT
END:VCALENDAR
