BEGIN:VCALENDAR
VERSION:2.0
PRODID:-//www.hopeworxinc.org//NONSGML kigkonsult.se iCalcreator 2.30.10//
CALSCALE:GREGORIAN
METHOD:PUBLISH
UID:1681b83b-c756-4281-8f0b-68e785f46b14
X-WR-CALDESC:
X-WR-RELCALID:f80e9ace6e47b5b174d2a3e1c503d91c
X-WR-TIMEZONE:America/New_York
BEGIN:VTIMEZONE
TZID:America/New_York
BEGIN:STANDARD
TZNAME:EST
DTSTART:20191103T020000
TZOFFSETFROM:-0400
TZOFFSETTO:-0500
RDATE:20201101T020000
END:STANDARD
BEGIN:DAYLIGHT
TZNAME:EDT
DTSTART:20190310T020000
TZOFFSETFROM:-0500
TZOFFSETTO:-0400
RDATE:20200308T020000
RDATE:20210314T020000
END:DAYLIGHT
END:VTIMEZONE
BEGIN:VEVENT
UID:b39c053d-0624-454c-9645-6e6c685e98b1
DTSTAMP:20260419T233209Z
DESCRIPTION:
DTSTART;TZID=America/New_York:20200110T170000
DTEND;TZID=America/New_York:20200110T183000
LOCATION:
SUMMARY:It's T.I.M.E. Class at the Pottstown Cluster
END:VEVENT
END:VCALENDAR
