BEGIN:VCALENDAR
VERSION:2.0
PRODID:-//www.hopeworxinc.org//NONSGML kigkonsult.se iCalcreator 2.30.10//
CALSCALE:GREGORIAN
METHOD:PUBLISH
UID:a6af795c-3eec-4262-9fe2-b77cf4966672
X-WR-CALDESC:
X-WR-RELCALID:19c533ef4c873554ab8c7b0025065edf
X-WR-TIMEZONE:America/New_York
BEGIN:VTIMEZONE
TZID:America/New_York
BEGIN:STANDARD
TZNAME:EST
DTSTART:20191103T020000
TZOFFSETFROM:-0400
TZOFFSETTO:-0500
RDATE:20201101T020000
END:STANDARD
BEGIN:DAYLIGHT
TZNAME:EDT
DTSTART:20190310T020000
TZOFFSETFROM:-0500
TZOFFSETTO:-0400
RDATE:20200308T020000
RDATE:20210314T020000
END:DAYLIGHT
END:VTIMEZONE
BEGIN:VEVENT
UID:9e5be890-40e1-4825-aa52-7fd025b5eccc
DTSTAMP:20260419T233322Z
DESCRIPTION:
DTSTART;TZID=America/New_York:20200121T123000
DTEND;TZID=America/New_York:20200121T143000
LOCATION:
SUMMARY:Ask the Basket with Sandy Watson | HopeWorx | 12:30pm – 2:30pm
END:VEVENT
END:VCALENDAR
