BEGIN:VCALENDAR
VERSION:2.0
PRODID:-//www.hopeworxinc.org//NONSGML kigkonsult.se iCalcreator 2.30.10//
CALSCALE:GREGORIAN
METHOD:PUBLISH
UID:a52094d0-748e-492c-b3e0-51249a5d5b04
X-WR-CALDESC:
X-WR-RELCALID:e0c391d7a5e11ea4e202ec7e20dd09fb
X-WR-TIMEZONE:America/New_York
BEGIN:VTIMEZONE
TZID:America/New_York
BEGIN:STANDARD
TZNAME:EST
DTSTART:20191103T020000
TZOFFSETFROM:-0400
TZOFFSETTO:-0500
RDATE:20201101T020000
END:STANDARD
BEGIN:DAYLIGHT
TZNAME:EDT
DTSTART:20190310T020000
TZOFFSETFROM:-0500
TZOFFSETTO:-0400
RDATE:20200308T020000
RDATE:20210314T020000
END:DAYLIGHT
END:VTIMEZONE
BEGIN:VEVENT
UID:6f7d1a25-6f38-4d38-ab7e-730b97bcec2f
DTSTAMP:20260419T231859Z
DESCRIPTION:
DTSTART;TZID=America/New_York:20200124T170000
DTEND;TZID=America/New_York:20200124T183000
LOCATION:
SUMMARY:It's T.I.M.E. Class at the Pottstown Cluster
END:VEVENT
END:VCALENDAR
