BEGIN:VCALENDAR
VERSION:2.0
PRODID:-//www.hopeworxinc.org//NONSGML kigkonsult.se iCalcreator 2.30.10//
CALSCALE:GREGORIAN
METHOD:PUBLISH
UID:364c71ef-7c03-47b9-bdc6-74c1c498e8b7
X-WR-CALDESC:
X-WR-RELCALID:f4ffd041b7c8dc80e31443eb874d6df3
X-WR-TIMEZONE:America/New_York
BEGIN:VTIMEZONE
TZID:America/New_York
BEGIN:STANDARD
TZNAME:EST
DTSTART:20191103T020000
TZOFFSETFROM:-0400
TZOFFSETTO:-0500
RDATE:20201101T020000
END:STANDARD
BEGIN:DAYLIGHT
TZNAME:EDT
DTSTART:20190310T020000
TZOFFSETFROM:-0500
TZOFFSETTO:-0400
RDATE:20200308T020000
RDATE:20210314T020000
END:DAYLIGHT
END:VTIMEZONE
BEGIN:VEVENT
UID:b9ce2699-dd6f-42f4-891d-5cea89b5e86f
DTSTAMP:20260419T234337Z
DESCRIPTION:
DTSTART;TZID=America/New_York:20200127T150000
DTEND;TZID=America/New_York:20200127T163000
LOCATION:
SUMMARY:Montgomery County Hearing Voices Network (MCHVN) - 'Taking Back Our
  Power' | HopeWorx | 3:00pm – 4:30pm with CIC
END:VEVENT
END:VCALENDAR
