BEGIN:VCALENDAR
VERSION:2.0
PRODID:-//www.hopeworxinc.org//NONSGML kigkonsult.se iCalcreator 2.30.10//
CALSCALE:GREGORIAN
METHOD:PUBLISH
UID:ec37fcd2-9345-4cbc-b1ec-0f995eeb6cc4
X-WR-CALDESC:
X-WR-RELCALID:1578982923fc3feec67cfe58e84003cb
X-WR-TIMEZONE:America/New_York
BEGIN:VTIMEZONE
TZID:America/New_York
BEGIN:STANDARD
TZNAME:EST
DTSTART:20191103T020000
TZOFFSETFROM:-0400
TZOFFSETTO:-0500
RDATE:20201101T020000
END:STANDARD
BEGIN:DAYLIGHT
TZNAME:EDT
DTSTART:20190310T020000
TZOFFSETFROM:-0500
TZOFFSETTO:-0400
RDATE:20200308T020000
RDATE:20210314T020000
END:DAYLIGHT
END:VTIMEZONE
BEGIN:VEVENT
UID:e15edd3b-d719-4245-a2b7-440626696e5f
DTSTAMP:20260419T233850Z
DESCRIPTION:
DTSTART;TZID=America/New_York:20200128T130000
DTEND;TZID=America/New_York:20200128T140000
LOCATION:
SUMMARY:Mindful Yoga | HopeWorx | 1:00pm – 2:00pm with Maria Evans
END:VEVENT
END:VCALENDAR
