BEGIN:VCALENDAR
VERSION:2.0
PRODID:-//www.hopeworxinc.org//NONSGML kigkonsult.se iCalcreator 2.30.10//
CALSCALE:GREGORIAN
METHOD:PUBLISH
UID:7d2c1566-a7c8-4a3d-98de-271981457f20
X-WR-CALDESC:
X-WR-RELCALID:936a5b329ea53f6508a2345399906c54
X-WR-TIMEZONE:America/New_York
BEGIN:VTIMEZONE
TZID:America/New_York
BEGIN:STANDARD
TZNAME:EST
DTSTART:20191103T020000
TZOFFSETFROM:-0400
TZOFFSETTO:-0500
RDATE:20201101T020000
END:STANDARD
BEGIN:DAYLIGHT
TZNAME:EDT
DTSTART:20190310T020000
TZOFFSETFROM:-0500
TZOFFSETTO:-0400
RDATE:20200308T020000
RDATE:20210314T020000
END:DAYLIGHT
END:VTIMEZONE
BEGIN:VEVENT
UID:89e90ff5-9735-430c-ba76-bce613063139
DTSTAMP:20260420T010415Z
DESCRIPTION:
DTSTART;TZID=America/New_York:20200204T130000
DTEND;TZID=America/New_York:20200204T140000
LOCATION:
SUMMARY:Mindful Yoga | HopeWorx | 1:00pm – 2:00pm with Maria Evans
END:VEVENT
END:VCALENDAR
