BEGIN:VCALENDAR
VERSION:2.0
PRODID:-//www.hopeworxinc.org//NONSGML kigkonsult.se iCalcreator 2.30.10//
CALSCALE:GREGORIAN
METHOD:PUBLISH
UID:98187d23-9707-4cab-be8c-3ab836d2b75f
X-WR-CALDESC:
X-WR-RELCALID:20c23d3a366e04f95b0cf0232797fd02
X-WR-TIMEZONE:America/New_York
BEGIN:VTIMEZONE
TZID:America/New_York
BEGIN:STANDARD
TZNAME:EST
DTSTART:20191103T020000
TZOFFSETFROM:-0400
TZOFFSETTO:-0500
RDATE:20201101T020000
END:STANDARD
BEGIN:DAYLIGHT
TZNAME:EDT
DTSTART:20190310T020000
TZOFFSETFROM:-0500
TZOFFSETTO:-0400
RDATE:20200308T020000
RDATE:20210314T020000
END:DAYLIGHT
END:VTIMEZONE
BEGIN:VEVENT
UID:8de4dfd0-b126-4c8c-805d-1cb0bb5fc88d
DTSTAMP:20260420T010226Z
DESCRIPTION:
DTSTART;TZID=America/New_York:20200207T120000
DTEND;TZID=America/New_York:20200207T150000
LOCATION:
SUMMARY:Community Art with Maria Maneos (BWTL) noon to 3 pm
END:VEVENT
END:VCALENDAR
