BEGIN:VCALENDAR
VERSION:2.0
PRODID:-//www.hopeworxinc.org//NONSGML kigkonsult.se iCalcreator 2.30.10//
CALSCALE:GREGORIAN
METHOD:PUBLISH
UID:3041435f-5813-4e38-a8db-6dcad382a274
X-WR-CALDESC:
X-WR-RELCALID:75daa747e19f0a1079d1d03d78c09cdb
X-WR-TIMEZONE:America/New_York
BEGIN:VTIMEZONE
TZID:America/New_York
BEGIN:STANDARD
TZNAME:EST
DTSTART:20191103T020000
TZOFFSETFROM:-0400
TZOFFSETTO:-0500
RDATE:20201101T020000
END:STANDARD
BEGIN:DAYLIGHT
TZNAME:EDT
DTSTART:20190310T020000
TZOFFSETFROM:-0500
TZOFFSETTO:-0400
RDATE:20200308T020000
RDATE:20210314T020000
END:DAYLIGHT
END:VTIMEZONE
BEGIN:VEVENT
UID:ee43ada1-0032-4f4b-8b90-a97c69b07f1e
DTSTAMP:20260420T005509Z
DESCRIPTION:
DTSTART;TZID=America/New_York:20200208T130000
DTEND;TZID=America/New_York:20200208T160000
LOCATION:
SUMMARY:Open Mic with Bryan
END:VEVENT
END:VCALENDAR
