BEGIN:VCALENDAR
VERSION:2.0
PRODID:-//www.hopeworxinc.org//NONSGML kigkonsult.se iCalcreator 2.30.10//
CALSCALE:GREGORIAN
METHOD:PUBLISH
UID:3dd47576-e1b4-4582-a714-51c62e96d618
X-WR-CALDESC:
X-WR-RELCALID:aaaa7e742e98e428f3f9ed0811dfee7e
X-WR-TIMEZONE:America/New_York
BEGIN:VTIMEZONE
TZID:America/New_York
BEGIN:STANDARD
TZNAME:EST
DTSTART:20191103T020000
TZOFFSETFROM:-0400
TZOFFSETTO:-0500
RDATE:20201101T020000
END:STANDARD
BEGIN:DAYLIGHT
TZNAME:EDT
DTSTART:20190310T020000
TZOFFSETFROM:-0500
TZOFFSETTO:-0400
RDATE:20200308T020000
RDATE:20210314T020000
END:DAYLIGHT
END:VTIMEZONE
BEGIN:VEVENT
UID:f6af3c99-1c7f-451e-91f7-aed86cd1640a
DTSTAMP:20260420T005810Z
DESCRIPTION:
DTSTART;TZID=America/New_York:20200215T130000
DTEND;TZID=America/New_York:20200215T160000
LOCATION:
SUMMARY:Movie Day with Laquan
END:VEVENT
END:VCALENDAR
