BEGIN:VCALENDAR
VERSION:2.0
PRODID:-//www.hopeworxinc.org//NONSGML kigkonsult.se iCalcreator 2.30.10//
CALSCALE:GREGORIAN
METHOD:PUBLISH
UID:2167f773-1157-4282-974e-c94624097ed6
X-WR-CALDESC:
X-WR-RELCALID:c1a4ded5e89b577791ae940dab4f7959
X-WR-TIMEZONE:America/New_York
BEGIN:VTIMEZONE
TZID:America/New_York
BEGIN:STANDARD
TZNAME:EST
DTSTART:20191103T020000
TZOFFSETFROM:-0400
TZOFFSETTO:-0500
RDATE:20201101T020000
END:STANDARD
BEGIN:DAYLIGHT
TZNAME:EDT
DTSTART:20190310T020000
TZOFFSETFROM:-0500
TZOFFSETTO:-0400
RDATE:20200308T020000
RDATE:20210314T020000
END:DAYLIGHT
END:VTIMEZONE
BEGIN:VEVENT
UID:639449e3-ef8f-4a9b-8f5a-22adcc983791
DTSTAMP:20260420T005810Z
DESCRIPTION:
DTSTART;TZID=America/New_York:20200217T000000
DTEND;TZID=America/New_York:20200217T235900
LOCATION:
SUMMARY:President's Day Hopeworx is closed
END:VEVENT
END:VCALENDAR
