BEGIN:VCALENDAR
VERSION:2.0
PRODID:-//www.hopeworxinc.org//NONSGML kigkonsult.se iCalcreator 2.30.10//
CALSCALE:GREGORIAN
METHOD:PUBLISH
UID:f3793160-3db8-4fdb-bb5e-fd4a55d76bcb
X-WR-CALDESC:
X-WR-RELCALID:5127ef2fa80990a69b814bb9223f3f35
X-WR-TIMEZONE:America/New_York
BEGIN:VTIMEZONE
TZID:America/New_York
BEGIN:STANDARD
TZNAME:EST
DTSTART:20191103T020000
TZOFFSETFROM:-0400
TZOFFSETTO:-0500
RDATE:20201101T020000
END:STANDARD
BEGIN:DAYLIGHT
TZNAME:EDT
DTSTART:20190310T020000
TZOFFSETFROM:-0500
TZOFFSETTO:-0400
RDATE:20200308T020000
RDATE:20210314T020000
END:DAYLIGHT
END:VTIMEZONE
BEGIN:VEVENT
UID:db7fbae3-451f-429f-aad5-0bfd5f950c0e
DTSTAMP:20260420T005611Z
DESCRIPTION:
DTSTART;TZID=America/New_York:20200218T140000
DTEND;TZID=America/New_York:20200218T150000
LOCATION:
SUMMARY:Game Day
END:VEVENT
END:VCALENDAR
