BEGIN:VCALENDAR
VERSION:2.0
PRODID:-//www.hopeworxinc.org//NONSGML kigkonsult.se iCalcreator 2.30.10//
CALSCALE:GREGORIAN
METHOD:PUBLISH
UID:1d1bb48c-0f58-4d8b-8509-c0df678ef027
X-WR-CALDESC:
X-WR-RELCALID:e3c6043ab9fa39d1b1c44b7761b6cd7d
X-WR-TIMEZONE:America/New_York
BEGIN:VTIMEZONE
TZID:America/New_York
BEGIN:STANDARD
TZNAME:EST
DTSTART:20191103T020000
TZOFFSETFROM:-0400
TZOFFSETTO:-0500
RDATE:20201101T020000
END:STANDARD
BEGIN:DAYLIGHT
TZNAME:EDT
DTSTART:20190310T020000
TZOFFSETFROM:-0500
TZOFFSETTO:-0400
RDATE:20200308T020000
RDATE:20210314T020000
END:DAYLIGHT
END:VTIMEZONE
BEGIN:VEVENT
UID:6608708a-7b7c-4c09-b663-cdac4043bac6
DTSTAMP:20260420T005940Z
DESCRIPTION:
DTSTART;TZID=America/New_York:20200220T103000
DTEND;TZID=America/New_York:20200220T120000
LOCATION:
SUMMARY:Circle of Hope with CIC
END:VEVENT
END:VCALENDAR
